BEGIN:VCALENDAR
VERSION:2.0
PRODID:-//Dave Sterner - ECPv6.15.1.1//NONSGML v1.0//EN
CALSCALE:GREGORIAN
METHOD:PUBLISH
X-ORIGINAL-URL:https://davesterner.com
X-WR-CALDESC:Events for Dave Sterner
REFRESH-INTERVAL;VALUE=DURATION:PT1H
X-Robots-Tag:noindex
X-PUBLISHED-TTL:PT1H
BEGIN:VTIMEZONE
TZID:UTC
BEGIN:STANDARD
TZOFFSETFROM:+0000
TZOFFSETTO:+0000
TZNAME:UTC
DTSTART:20240101T000000
END:STANDARD
END:VTIMEZONE
BEGIN:VEVENT
DTSTART;TZID=UTC:20260325T190000
DTEND;TZID=UTC:20260325T200000
DTSTAMP:20260424T155012
CREATED:20260313T162245Z
LAST-MODIFIED:20260313T162245Z
UID:1086-1774465200-1774468800@davesterner.com
SUMMARY:CSU Faculty Recital - Drinko Hall CSU
DESCRIPTION:This should be fun.  It will be my first “recital” since college.  (34 years ag0) \nFeaturing: \nJoe Miller – trumpet\, Will Horner- bass\, Dave Sterner- sax\, John Karkosiak- guitar\, Chris Vance- bass\, Bill Ransom- drums\, Jennifer James-piano and Stephanie Jimenez Muniz- vocals \nDrinko Hall \n2001 Euclid Ave. \nCleveland\, 44115 \n7pm \n 
URL:https://davesterner.com/calendar/csu-faculty-recital-drinko-hall-csu/
LOCATION:ohio
END:VEVENT
BEGIN:VEVENT
DTSTART;TZID=UTC:20260324T190000
DTEND;TZID=UTC:20260324T210000
DTSTAMP:20260424T155012
CREATED:20260121T030756Z
LAST-MODIFIED:20260121T030756Z
UID:1082-1774378800-1774386000@davesterner.com
SUMMARY:Dave Sterner's Tricotism @ The Good Company
DESCRIPTION:This will be our 2nd time playing at The Good Company.  The first time we had a blast.  Tricotism is a chordless trio with Tim Lekan and Steve Renko.  Think Sonny Rollins\, Joe Henderson\, and some original pop arrangements and tunes.
URL:https://davesterner.com/calendar/dave-sterners-tricotism-the-good-company/
LOCATION:The Good Company\, 60 South Maple\, Akron\, OH\, 44303\, United States
END:VEVENT
BEGIN:VEVENT
DTSTART;TZID=UTC:20260307T183000
DTEND;TZID=UTC:20260307T213000
DTSTAMP:20260424T155012
CREATED:20260121T025736Z
LAST-MODIFIED:20260121T025736Z
UID:1077-1772908200-1772919000@davesterner.com
SUMMARY:The Dave Sterner Trio @ Edwins
DESCRIPTION:This place is awesome!!!  Looking forward to playing here again.
URL:https://davesterner.com/calendar/the-dave-sterner-trio-edwins/
LOCATION:Edwin’s\, 12383 Cedar Road\, Cleveland Heights\, OH\, 44106\, United States
END:VEVENT
BEGIN:VEVENT
DTSTART;TZID=UTC:20260224T200000
DTEND;TZID=UTC:20260224T210000
DTSTAMP:20260424T155012
CREATED:20190515T141650Z
LAST-MODIFIED:20251231T162536Z
UID:749-1771963200-1771966800@davesterner.com
SUMMARY:Blue Water Kings showcase - Brother's Lounge
DESCRIPTION:A one hour showcase of the Blue Water Kings for perspective weddings\, 8pm-9pm.  Free and open to the public.
URL:https://davesterner.com/calendar/blue-water-kings-showcase-brothers-lounge/
LOCATION:brother’s Lounge\, 11609 Detroit Ave.\, Cleveland\, OH\, United States
END:VEVENT
BEGIN:VEVENT
DTSTART;TZID=UTC:20260221T180000
DTEND;TZID=UTC:20260221T230000
DTSTAMP:20260424T155012
CREATED:20240227T043401Z
LAST-MODIFIED:20260121T030128Z
UID:929-1771696800-1771714800@davesterner.com
SUMMARY:The Dave Sterner Quartet - Private Event
DESCRIPTION:Playing for the Sparkle awards gala.  Private event.
URL:https://davesterner.com/calendar/dave-sterner-quartet-private-event/
LOCATION:ohio
END:VEVENT
BEGIN:VEVENT
DTSTART;TZID=UTC:20260214T183000
DTEND;TZID=UTC:20260214T213000
DTSTAMP:20260424T155012
CREATED:20240626T192411Z
LAST-MODIFIED:20260121T025521Z
UID:1005-1771093800-1771104600@davesterner.com
SUMMARY:Dave Sterner Trio - Edwins
DESCRIPTION:Edwins is back hosting local musicians.  Playing swing\, Latin\, blues\, and a few surprises.  Happy Valentine’s Day!
URL:https://davesterner.com/calendar/dave-sterner-trio-nighttown-3/
LOCATION:Edwin’s\, 12383 Cedar Road\, Cleveland Heights\, OH\, 44106\, United States
END:VEVENT
BEGIN:VEVENT
DTSTART;TZID=UTC:20260205T180000
DTEND;TZID=UTC:20260205T200000
DTSTAMP:20260424T155012
CREATED:20251231T163429Z
LAST-MODIFIED:20260121T025242Z
UID:1072-1770314400-1770321600@davesterner.com
SUMMARY:Dave Sterner's Tricotism - The Sixty6
DESCRIPTION:This will be our first time at The Sixty6 with the Tricotism Trio\, featuring Steve Renko on drums and Tim Lekan on bass.  We’ll be playing a mix of standards\, pop tunes\, originals\, Latin and (of course) the blues. The music starts at 6pm.
URL:https://davesterner.com/calendar/dave-sterners-tricotism-the-sixty6/
LOCATION:The Sixty6\, 1966 East 66th\, Cleveland\, 44103\, United States
END:VEVENT
BEGIN:VEVENT
DTSTART;TZID=UTC:20251223T193000
DTEND;TZID=UTC:20251223T220000
DTSTAMP:20260424T155012
CREATED:20241104T214049Z
LAST-MODIFIED:20250926T182237Z
UID:1033-1766518200-1766527200@davesterner.com
SUMMARY:The Dave Sterner Trio - The Lyric Bistro
DESCRIPTION:It’s always fun playing at the Lyric Bistro.  I’ll be joined by Tim Lekan (bass) and Steve Renko (drums).  Looking forward to playing at a new venue.  The music starts at 7:30pm.  Eastsiders come on out!
URL:https://davesterner.com/calendar/dave-sterner-trio-lyric-bistro/
LOCATION:The Lyric Bistro\, 225 High Street\, Fairport\, OH\, 44077\, United States
END:VEVENT
BEGIN:VEVENT
DTSTART;TZID=UTC:20251218T120000
DTEND;TZID=UTC:20251218T160000
DTSTAMP:20260424T155012
CREATED:20180324T211448Z
LAST-MODIFIED:20251030T210307Z
UID:531-1766059200-1766073600@davesterner.com
SUMMARY:Blue Water Kings - Corporate event at Kalahari
DESCRIPTION:Blue Water Kings Corporate event for Kalahari Water Park
URL:https://davesterner.com/calendar/blue-water-kings/
LOCATION:ohio
END:VEVENT
BEGIN:VEVENT
DTSTART;TZID=UTC:20251129T180000
DTEND;TZID=UTC:20251129T210000
DTSTAMP:20260424T155012
CREATED:20230301T004253Z
LAST-MODIFIED:20251030T210535Z
UID:919-1764439200-1764450000@davesterner.com
SUMMARY:The Demetrius Steinmetz Trio - The Northstar Cafe
DESCRIPTION:Playing a fun mix of jazz standards\, blues\, ballads\, and Latin tunes with Demetrius Steinmetz (piano) and Tim Lekan (bass).  Always a good time and great atmosphere with awesome food and beer.
URL:https://davesterner.com/calendar/demetrius-steinmetz-trio-northstar-cafe/
LOCATION:Northstar Cafe\, 3380 Warrensville Center Road\, Shaker Heights\, OH\, 44122\, United States
END:VEVENT
BEGIN:VEVENT
DTSTART;TZID=UTC:20251114T193000
DTEND;TZID=UTC:20251114T223000
DTSTAMP:20260424T155012
CREATED:20250926T183254Z
LAST-MODIFIED:20260421T193041Z
UID:1064-1763148600-1763159400@davesterner.com
SUMMARY:Bent String -
DESCRIPTION:Not sure of all the details on this one\, but I really enjoy playing with Bent String.  I’m not sure if it’s open to the public. 3-4pm \n 
URL:https://davesterner.com/calendar/bent-string-brownhoist/
LOCATION:ohio
END:VEVENT
BEGIN:VEVENT
DTSTART;TZID=UTC:20251101T183000
DTEND;TZID=UTC:20251101T213000
DTSTAMP:20260424T155012
CREATED:20240626T191906Z
LAST-MODIFIED:20250517T203130Z
UID:1001-1762021800-1762032600@davesterner.com
SUMMARY:The Dave Sterner Trio - Hyde Park Prime Steakhouse
DESCRIPTION:Always love playing with Joe Hunter and Tim Lekan.  We’ll be swinging and having a ball.  Come join us at this swanky spot.  There’s plenty of room at the bar.
URL:https://davesterner.com/calendar/dave-sterner-trio-standard-7/
LOCATION:Hyde Park\, 26300 Chagrin Blvd.\, Beachwood\, OH\, 44122
END:VEVENT
BEGIN:VEVENT
DTSTART;TZID=UTC:20251010T193000
DTEND;TZID=UTC:20251010T220000
DTSTAMP:20260424T155012
CREATED:20240125T194409Z
LAST-MODIFIED:20250926T182554Z
UID:948-1760124600-1760133600@davesterner.com
SUMMARY:The Sounds of Soul - Motown review - Stocker Arts Center
DESCRIPTION:Pick up gig for the Sounds of Soul. \nLorain County Community College\nStocker Arts Center\n1005 N. Abbe Road\nElyria\, OH 44054\n(440) 366-4040 \nGet ready to relive the hits of Motown and beyond as this exciting\, high-energy act unleashes superior vocals and slick dance moves powered by pure soul! Performing a combination of Motown classics mixed with some of the greatest pop\nand R&B hits ever written\, the outstanding singers\, dancers\, and songwriters of THE SOUNDS OF SOUL are a non-stop party for audiences of all ages! Get ready to soak in the hits of The Temptations\, The Four Tops\, Aretha Franklin\, Whitney Houston\, The Supremes\, Lionel Richie\, Tina Turner\, Barry White\, and more when THE SOUNDS OF SOUL share their sensational choreography\, powerful harmonies\, and high-octane stage presence with you!
URL:https://davesterner.com/calendar/sounds-soul-motown-review-stocker-arts-center/
LOCATION:Stockard Arts Center\, 1005 N. Abbe Road\, Elyria\, OH\, 44054
END:VEVENT
BEGIN:VEVENT
DTSTART;TZID=UTC:20250905T173000
DTEND;TZID=UTC:20250905T200000
DTSTAMP:20260424T155012
CREATED:20220220T233534Z
LAST-MODIFIED:20250517T203339Z
UID:890-1757093400-1757102400@davesterner.com
SUMMARY:The Dave Sterner Trio - Tasting Room @ The Chagrin Falls Heinen's
DESCRIPTION:We’ll be playing bebop\, the Great American Songbook\, bossa novas\, and more.  It’s very laid back atmosphere with great food and bar.  Who knew that Heinen’s was so hip? \nHeinen’s \n20 Plaza Drive \nChagrin Falls\, 44022
URL:https://davesterner.com/calendar/dave-sterner-trio-tasting-room-chagrin-falls-heinens-4/
LOCATION:Heinen’s Chagrin Falls\, 20 Plaza Drive\, Chagrin Falls\, OH\, 44022\, United States
END:VEVENT
BEGIN:VEVENT
DTSTART;TZID=UTC:20250808T190000
DTEND;TZID=UTC:20250808T200000
DTSTAMP:20260424T155012
CREATED:20180301T202533Z
LAST-MODIFIED:20250517T202933Z
UID:470-1754679600-1754683200@davesterner.com
SUMMARY:Shabbat Rocks!!
DESCRIPTION:Shabbat Rocks!! \nWorship service with a contemporary Jewish band
URL:https://davesterner.com/calendar/shabbat-rocks/
LOCATION:B’nai Jeshurun\, 27501 Fairmount Boulevard\, Pepper Pike\, OH\, 44124\, United States
END:VEVENT
BEGIN:VEVENT
DTSTART;TZID=UTC:20250727T190000
DTEND;TZID=UTC:20250727T210000
DTSTAMP:20260424T155012
CREATED:20180304T172638Z
LAST-MODIFIED:20250517T203438Z
UID:486-1753642800-1753650000@davesterner.com
SUMMARY:Fat Tuesday Big Band - Lakewood Park
DESCRIPTION:Ernie Krivda and the Fat Tuesday Big Band \n14532 Lake Ave\, Lakewood\, OH 44107
URL:https://davesterner.com/calendar/fat-tuesday-big-band-3/
LOCATION:ohio
END:VEVENT
BEGIN:VEVENT
DTSTART;TZID=UTC:20250718T190000
DTEND;TZID=UTC:20250718T220000
DTSTAMP:20260424T155012
CREATED:20180614T171616Z
LAST-MODIFIED:20250517T203508Z
UID:575-1752865200-1752876000@davesterner.com
SUMMARY:Fat Tuesday Big Band - Blu Jazz Akron
DESCRIPTION:Ernie Krivda & The Fat Tuesday Big Band\, swinging big band music at it’s finest.
URL:https://davesterner.com/calendar/fat-tuesday-big-band-blu-jazz-akron/
LOCATION:Blujazz\, 47 E Market Street\, Akron\, OH\, 44308\, United States
END:VEVENT
BEGIN:VEVENT
DTSTART;TZID=UTC:20250716T190000
DTEND;TZID=UTC:20250716T210000
DTSTAMP:20260424T155012
CREATED:20190216T155328Z
LAST-MODIFIED:20250517T203757Z
UID:715-1752692400-1752699600@davesterner.com
SUMMARY:Red Light Roxy - Lyndhurst Park
DESCRIPTION:Really Looking forward to this one.  This will be Red Light Roxy’s 2nd time performing for the City of Lyndhurst. \nLyndhurst Park \n1341 Parkview Dr\nLyndhurst\, OH 44124\n  \n 
URL:https://davesterner.com/calendar/red-light-roxy-hudson-gazebo/
LOCATION:ohio
END:VEVENT
BEGIN:VEVENT
DTSTART;TZID=UTC:20250627T161500
DTEND;TZID=UTC:20250627T170000
DTSTAMP:20260424T155012
CREATED:20180503T154617Z
LAST-MODIFIED:20250517T203223Z
UID:542-1751040900-1751043600@davesterner.com
SUMMARY:Fat Tuesday Big Band at the TRI-C Jazz Fest
DESCRIPTION:Ernie Krivda and the Fat Tuesday Big Band will be performing on the outdoor stage for the TRI-C Jazz Festival.  Swinging big band music at it’s finest.
URL:https://davesterner.com/calendar/fat-tuesday-big-band-tri-c-jazz-fest/
LOCATION:ohio
END:VEVENT
BEGIN:VEVENT
DTSTART;TZID=UTC:20250423T130000
DTEND;TZID=UTC:20250423T163000
DTSTAMP:20260424T155012
CREATED:20190729T150738Z
LAST-MODIFIED:20250226T202704Z
UID:791-1745413200-1745425800@davesterner.com
SUMMARY:Blue Water Kings - Corporate Event for Erie Insurance
DESCRIPTION:Blue Water Kings corporate event.
URL:https://davesterner.com/calendar/blue-water-kings-wedding-7/
LOCATION:ohio
END:VEVENT
BEGIN:VEVENT
DTSTART;TZID=UTC:20250411T190000
DTEND;TZID=UTC:20250411T210000
DTSTAMP:20260424T155012
CREATED:20250328T025745Z
LAST-MODIFIED:20250328T025745Z
UID:1053-1744398000-1744405200@davesterner.com
SUMMARY:The Dave Sterner Duo - Provenance at the Cleveland Museum of Art
DESCRIPTION:This will be my first time here.  I’ll be joined by Brent Hamker playing a mix of Bossa’s\, swing\, and even a few pop surprises.
URL:https://davesterner.com/calendar/dave-sterner-duo-provenance-cleveland-museum-art/
LOCATION:Provenance\, 11150 East Boulevard\, Cleveland\, OH\, 44106\, United States
END:VEVENT
BEGIN:VEVENT
DTSTART;TZID=UTC:20250315T190000
DTEND;TZID=UTC:20250315T210000
DTSTAMP:20260424T155012
CREATED:20250226T202501Z
LAST-MODIFIED:20250226T202501Z
UID:1047-1742065200-1742072400@davesterner.com
SUMMARY:Taylor Hicks from American Idol @ Sugarcreek
DESCRIPTION:Looking forward to playing with American Idol winner\, Taylor Hicks.  I’m not quite sure what to expect because it’s only a trio\, but I’m sure it will be fun.
URL:https://davesterner.com/calendar/taylor-hicks-american-idol-sugarcreek/
LOCATION:ohio
END:VEVENT
BEGIN:VEVENT
DTSTART;TZID=UTC:20250301T183000
DTEND;TZID=UTC:20250301T213000
DTSTAMP:20260424T155012
CREATED:20250108T191634Z
LAST-MODIFIED:20250108T191735Z
UID:1043-1740853800-1740864600@davesterner.com
SUMMARY:The Dave Sterner Trio - Hyde Park Steakhouse
DESCRIPTION:Always love playing with Joe Hunter and Tim Lekan.  We’ll be swinging and having a ball.  Come join us at this swanky spot.  There’s plenty of room at the bar.
URL:https://davesterner.com/calendar/dave-sterner-trio-hyde-park-steakhouse/
LOCATION:Hyde Park\, 26300 Chagrin Blvd.\, Beachwood\, OH\, 44122
END:VEVENT
BEGIN:VEVENT
DTSTART;TZID=UTC:20241231T190000
DTEND;TZID=UTC:20241231T230000
DTSTAMP:20260424T155012
CREATED:20190729T144925Z
LAST-MODIFIED:20241104T214445Z
UID:786-1735671600-1735686000@davesterner.com
SUMMARY:Blue Water Kings - NYE Wedding
DESCRIPTION:Blue Water Kings private wedding.
URL:https://davesterner.com/calendar/blue-water-kings-wedding-6/
LOCATION:ohio
END:VEVENT
BEGIN:VEVENT
DTSTART;TZID=UTC:20241109T180000
DTEND;TZID=UTC:20241109T210000
DTSTAMP:20260424T155012
CREATED:20230828T215655Z
LAST-MODIFIED:20241104T213218Z
UID:931-1731175200-1731186000@davesterner.com
SUMMARY:The Demetrius Steinmetz Trio - Northstar Cafe
DESCRIPTION:Playing a fun mix of jazz standards\, blues\, ballads\, and Latin tunes with Joe Hunter (piano) and Demetrius Steinmetz (bass).  Always a good time and great atmosphere with awesome food and beer.
URL:https://davesterner.com/calendar/demetrius-steinmetz-trio-northstar-cafe-2/
LOCATION:Northstar Cafe\, 3380 Warrensville Center Road\, Shaker Heights\, OH\, 44122\, United States
END:VEVENT
BEGIN:VEVENT
DTSTART;TZID=UTC:20241003T190000
DTEND;TZID=UTC:20241003T210000
DTSTAMP:20260424T155012
CREATED:20210603T121416Z
LAST-MODIFIED:20240430T030443Z
UID:867-1727982000-1727989200@davesterner.com
SUMMARY:Jukebox Saturday Night - The Music of Henry Mancini
DESCRIPTION:Jukebox Saturday Night celebrates the compositions of Henry Mancini from his early work with the Glenn Miller Orchestra. Program includes The Pink Panther Theme\, The Days of Wine and Roses\, Moon River\, Charade\, Baby Elephant Walk\, Too Little Time\, The Sweetheart Tree and many others. \n 
URL:https://davesterner.com/calendar/jukebox-saturday-night-music-henry-mancini/
LOCATION:ohio
END:VEVENT
BEGIN:VEVENT
DTSTART;TZID=UTC:20240910T190000
DTEND;TZID=UTC:20240910T210000
DTSTAMP:20260424T155012
CREATED:20190216T150750Z
LAST-MODIFIED:20240626T194256Z
UID:687-1725994800-1726002000@davesterner.com
SUMMARY:Red Light Roxy - Cain Park Alma Theater
DESCRIPTION:Red Light Roxy is playing at the Cain Park Alma Theater.   A really cool outdoor venue in the middle of Cleveland Heights.  Don’t miss it. \n  \nCain Park Alma Theater \n14591 Superior Ave\nCleveland Heights\, OH 44118 \n 
URL:https://davesterner.com/calendar/bop-stop-red-light-roxy-2/
LOCATION:ohio
END:VEVENT
BEGIN:VEVENT
DTSTART;TZID=UTC:20240822T180000
DTEND;TZID=UTC:20240822T210000
DTSTAMP:20260424T155012
CREATED:20240626T192242Z
LAST-MODIFIED:20240626T192242Z
UID:1003-1724349600-1724360400@davesterner.com
SUMMARY:The Dave Sterner Trio - Nighttown
DESCRIPTION:Nighttown is back hosting local musicians.  Playing swing\, Latin\, blues\, and a few surprises.
URL:https://davesterner.com/calendar/dave-sterner-trio-nighttown-2/
LOCATION:Nighttown\, 12387 Cedar Road\, Cleveland Heights\, OHIO\, 44106
END:VEVENT
BEGIN:VEVENT
DTSTART;TZID=UTC:20240821T190000
DTEND;TZID=UTC:20240821T220000
DTSTAMP:20260424T155012
CREATED:20240626T191834Z
LAST-MODIFIED:20240626T191834Z
UID:999-1724266800-1724277600@davesterner.com
SUMMARY:The Dave Sterner Trio - The Standard
DESCRIPTION:This is a fun little gig out on the back patio at The Standard.  Playing a trio of saxophone\, bass\, and drums where melody and rhythm are “king”.
URL:https://davesterner.com/calendar/dave-sterner-trio-standard-6/
LOCATION:The Standard\, 779 E. 185th St.\, Cleveland\, OH\, 44119\, United States
END:VEVENT
BEGIN:VEVENT
DTSTART;TZID=UTC:20240814T190000
DTEND;TZID=UTC:20240814T220000
DTSTAMP:20260424T155012
CREATED:20240626T191750Z
LAST-MODIFIED:20240626T191750Z
UID:996-1723662000-1723672800@davesterner.com
SUMMARY:The Dave Sterner Trio - The Standard
DESCRIPTION:This is a fun little gig out on the back patio at The Standard.  Playing a trio of saxophone\, bass\, and drums where melody and rhythm are “king”.
URL:https://davesterner.com/calendar/dave-sterner-trio-standard-5/
LOCATION:The Standard\, 779 E. 185th St.\, Cleveland\, OH\, 44119\, United States
END:VEVENT
END:VCALENDAR