BEGIN:VCALENDAR
VERSION:2.0
PRODID:-//Dave Sterner - ECPv6.15.1.1//NONSGML v1.0//EN
CALSCALE:GREGORIAN
METHOD:PUBLISH
X-ORIGINAL-URL:https://davesterner.com
X-WR-CALDESC:Events for Dave Sterner
REFRESH-INTERVAL;VALUE=DURATION:PT1H
X-Robots-Tag:noindex
X-PUBLISHED-TTL:PT1H
BEGIN:VTIMEZONE
TZID:UTC
BEGIN:STANDARD
TZOFFSETFROM:+0000
TZOFFSETTO:+0000
TZNAME:UTC
DTSTART:20190101T000000
END:STANDARD
END:VTIMEZONE
BEGIN:VEVENT
DTSTART;TZID=UTC:20220616T190000
DTEND;TZID=UTC:20220616T210000
DTSTAMP:20260425T005025
CREATED:20190515T135859Z
LAST-MODIFIED:20220421T195254Z
UID:741-1655406000-1655413200@davesterner.com
SUMMARY:Dave Sterner & Joe Rangel - Pinstripes
DESCRIPTION:Always a fun gig playing standards\, bebop\, blues\, Latin\, and a few surprises. A nice relaxed gig where we can stretch out and have fun.
URL:https://davesterner.com/calendar/dave-sterner-trio-pinstripes-2/
LOCATION:Pinstripes\, 111 Park Avenue\, Orange Village\, OH\, 44122\, United States
END:VEVENT
BEGIN:VEVENT
DTSTART;TZID=UTC:20220521T170000
DTEND;TZID=UTC:20220521T200000
DTSTAMP:20260425T005025
CREATED:20190729T144436Z
LAST-MODIFIED:20220421T194739Z
UID:782-1653152400-1653163200@davesterner.com
SUMMARY:The Joe Hunter Quartet - Private Event
DESCRIPTION:It’s always fun to play with Cleveland jazz legend Joe Hunter.  This is a private event.
URL:https://davesterner.com/calendar/bob-fraser-trio-private-event-2/
END:VEVENT
BEGIN:VEVENT
DTSTART;TZID=UTC:20220508T140000
DTEND;TZID=UTC:20220508T150000
DTSTAMP:20260425T005025
CREATED:20181122T011629Z
LAST-MODIFIED:20220421T195640Z
UID:663-1652018400-1652022000@davesterner.com
SUMMARY:Eileen Burns "Girl Singers" - Mother's Day Concert
DESCRIPTION:“Girl Singers” – Beachwood Public Library\n25501 Shaker Blvd\, Beachwood\, OH 44122\, USA \n\n\n“Girl Singers” pays tribute to the classic female vocalists of the 40s and 50s. Take a trip down memory lane with the songs and stories of ladies like Doris Day\, Rosemary Clooney\, Billie Holiday\, Peggy Lee and more. More info about this event will be available closer to the date.
URL:https://davesterner.com/calendar/beachwood-high-school-eileen-burns-music-movies/
END:VEVENT
BEGIN:VEVENT
DTSTART;TZID=UTC:20220507T180000
DTEND;TZID=UTC:20220507T220000
DTSTAMP:20260425T005025
CREATED:20180806T193806Z
LAST-MODIFIED:20220421T200829Z
UID:599-1651946400-1651960800@davesterner.com
SUMMARY:Jazz Trio - House Party
DESCRIPTION:Playing a private house party with Bryan Thomas and Bob Ferrazza.
URL:https://davesterner.com/calendar/jazz-quartet-hospital-event/
END:VEVENT
BEGIN:VEVENT
DTSTART;TZID=UTC:20220501T183000
DTEND;TZID=UTC:20220501T203000
DTSTAMP:20260425T005025
CREATED:20180806T194159Z
LAST-MODIFIED:20220421T200027Z
UID:603-1651429800-1651437000@davesterner.com
SUMMARY:Private Event Jazz Trio - corporate event
DESCRIPTION:The Private Event jazz trio will be playing a private corporate event.
URL:https://davesterner.com/calendar/private-event-wedding/
END:VEVENT
BEGIN:VEVENT
DTSTART;TZID=UTC:20220430T180000
DTEND;TZID=UTC:20220430T190000
DTSTAMP:20260425T005025
CREATED:20190729T131352Z
LAST-MODIFIED:20220220T233320Z
UID:767-1651341600-1651345200@davesterner.com
SUMMARY:The Private Event Trio - Wedding
DESCRIPTION:The Private Event Jazz Trio – Wedding
URL:https://davesterner.com/calendar/private-event-trio-football-hall-fame-galla/
END:VEVENT
BEGIN:VEVENT
DTSTART;TZID=UTC:20220401T173000
DTEND;TZID=UTC:20220401T200000
DTSTAMP:20260425T005025
CREATED:20220220T230345Z
LAST-MODIFIED:20220220T230345Z
UID:883-1648834200-1648843200@davesterner.com
SUMMARY:THE DAVE STERNER TRIO – TASTING ROOM @ THE CHAGRIN FALLS HEINEN’S
DESCRIPTION:Featuring Joe Hunter (piano)\, Demetrius Steinmetz (bass)\, and myself\, we’ll be playing bebop\, the Great American Songbook\, bossa novas\, and more.  It’s very laid back atmosphere with great food and bar.  Who knew that Heinen’s was so hip? \nHeinen’s \n20 Plaza Drive \nChagrin Falls\, 44022
URL:https://davesterner.com/calendar/dave-sterner-trio-tasting-room-chagrin-falls-heinens-3/
LOCATION:Heinen’s Chagrin Falls\, 20 Plaza Drive\, Chagrin Falls\, OH\, 44022\, United States
END:VEVENT
BEGIN:VEVENT
DTSTART;TZID=UTC:20220318T200000
DTEND;TZID=UTC:20220318T223000
DTSTAMP:20260425T005025
CREATED:20220220T232624Z
LAST-MODIFIED:20220220T232624Z
UID:887-1647633600-1647642600@davesterner.com
SUMMARY:Red Light Roxy - Lakeland Jazz Festival
DESCRIPTION:Red Light Roxy will be playing the Lakeland Jazz Festival.  This will be a great event featuring the band as well as swing dancers on stage. \nLakeland Community College \n7700 Clocktower Drive \nKirtland\, 44094
URL:https://davesterner.com/calendar/red-light-roxy-lakeland-jazz-festival/
LOCATION:Lakeland Community College\, 7700 Clocktower Drive\, Kirtland\, OH\, 44094\, United States
END:VEVENT
BEGIN:VEVENT
DTSTART;TZID=UTC:20220304T200000
DTEND;TZID=UTC:20220304T230000
DTSTAMP:20260425T005025
CREATED:20180310T190903Z
LAST-MODIFIED:20220220T231932Z
UID:505-1646424000-1646434800@davesterner.com
SUMMARY:Red Light Roxy - Blujazz
DESCRIPTION:Red Light Roxy – @ Blujazz \nGreat venue to hear the band swinging and jiving.
URL:https://davesterner.com/calendar/blujazz-red-light-roxy/
LOCATION:Blujazz\, 47 E Market Street\, Akron\, OH\, 44308\, United States
END:VEVENT
BEGIN:VEVENT
DTSTART;TZID=UTC:20220304T164500
DTEND;TZID=UTC:20220304T184500
DTSTAMP:20260425T005025
CREATED:20220220T230214Z
LAST-MODIFIED:20220220T230214Z
UID:881-1646412300-1646419500@davesterner.com
SUMMARY:The Dave Sterner Trio - Tasting Room @ The Chagrin Falls Heinen's
DESCRIPTION:Featuring Dan Bruce (guitar)\, Bryan Thomas (bass)\, and myself\, we’ll be playing bebop\, the Great American Songbook\, bossa novas\, and more.  It’s very laid back atmosphere with great food and bar.  Who knew that Heinen’s was so hip? \nHeinen’s \n20 Plaza Drive \nChagrin Falls\, 44022
URL:https://davesterner.com/calendar/dave-sterner-trio-tasting-room-chagrin-falls-heinens-2/
LOCATION:Heinen’s Chagrin Falls\, 20 Plaza Drive\, Chagrin Falls\, OH\, 44022\, United States
END:VEVENT
BEGIN:VEVENT
DTSTART;TZID=UTC:20220225T170000
DTEND;TZID=UTC:20220225T190000
DTSTAMP:20260425T005025
CREATED:20220220T225908Z
LAST-MODIFIED:20220220T225908Z
UID:878-1645808400-1645815600@davesterner.com
SUMMARY:The Dave Sterner Trio - Tasting Room @ The Chagrin Falls Heinen's
DESCRIPTION:Featuring Joe Hunter (piano)\, Demetrius Steinmetz (bass)\, and myself\, we’ll be playing bebop\, the Great American Songbook\, bossa novas\, and more.  It’s very laid back atmosphere with great food and bar.  Who knew that Heinen’s was so hip? \nHeinen’s \n20 Plaza Drive \nChagrin Falls\, 44022 \n 
URL:https://davesterner.com/calendar/dave-sterner-trio-tasting-room-chagrin-falls-heinens/
LOCATION:Heinen’s Chagrin Falls\, 20 Plaza Drive\, Chagrin Falls\, OH\, 44022\, United States
END:VEVENT
BEGIN:VEVENT
DTSTART;TZID=UTC:20210801T160000
DTEND;TZID=UTC:20210801T200000
DTSTAMP:20260425T005025
CREATED:20180806T195133Z
LAST-MODIFIED:20210603T122943Z
UID:615-1627833600-1627848000@davesterner.com
SUMMARY:Joseph Greenberger band -
DESCRIPTION:Playing Jewish music with the Joseph Greenberger band.
URL:https://davesterner.com/calendar/steve-greenman-band/
END:VEVENT
BEGIN:VEVENT
DTSTART;TZID=UTC:20210718T170000
DTEND;TZID=UTC:20210718T190000
DTSTAMP:20260425T005025
CREATED:20190216T162506Z
LAST-MODIFIED:20210603T121715Z
UID:735-1626627600-1626634800@davesterner.com
SUMMARY:Red Light Roxy - Gates Mills
DESCRIPTION:Red Light Roxy will be performing at Gate Mills’ annual summer band concert/picnic. Long tables and chairs are provided\, BYO picnicking is encouraged. \n1470 Chagrin River Rd \nGates Mills\, OH 44040\, USA
URL:https://davesterner.com/calendar/red-light-roxy-gates-mills-2/
END:VEVENT
BEGIN:VEVENT
DTSTART;TZID=UTC:20210710T200000
DTEND;TZID=UTC:20210711T000000
DTSTAMP:20260425T005025
CREATED:20180304T173247Z
LAST-MODIFIED:20210324T180558Z
UID:494-1625947200-1625961600@davesterner.com
SUMMARY:Park Place - Wedding
DESCRIPTION:Private event with Park Place Wedding band
URL:https://davesterner.com/calendar/park-place/
END:VEVENT
BEGIN:VEVENT
DTSTART;TZID=UTC:20210709T190000
DTEND;TZID=UTC:20210709T203000
DTSTAMP:20260425T005025
CREATED:20180503T160837Z
LAST-MODIFIED:20210324T180500Z
UID:565-1625857200-1625862600@davesterner.com
SUMMARY:Red Light Roxy - Penitentiary Glen
DESCRIPTION:We will be playing a concert at the Penitentiary Glen Lake Metropark. The Nature Center and Wildlife yard will be open during the performances\, and snacks and beverages will be available for purchase in The Nature Store. You are welcome to bring in alcohol for the concerts. This event is rain or shine\, in case of inclement weather\, we will play in the Nature Center. \nPenitentiary Glen Reservation\, 8668 Kirtland Chardon Rd\, Willoughby\, OH 44094\, USA
URL:https://davesterner.com/calendar/red-light-roxy-penitentiary-glen/
END:VEVENT
BEGIN:VEVENT
DTSTART;TZID=UTC:20210707T180000
DTEND;TZID=UTC:20210707T200000
DTSTAMP:20260425T005025
CREATED:20180324T205952Z
LAST-MODIFIED:20210324T180901Z
UID:523-1625680800-1625688000@davesterner.com
SUMMARY:Red Light Roxy - Painesville Gazebo
DESCRIPTION:Red Light Roxy will be playing for the city of Painesville summer concert series. \nVeteran’s Park\, 1 Liberty St. Painesville\, Ohio \nGrab a lawn chair and pack a picnic.
URL:https://davesterner.com/calendar/red-light-roxy-painesville-gazebo/
END:VEVENT
BEGIN:VEVENT
DTSTART;TZID=UTC:20210627T183000
DTEND;TZID=UTC:20210627T200000
DTSTAMP:20260425T005025
CREATED:20190216T151431Z
LAST-MODIFIED:20210324T182812Z
UID:690-1624818600-1624824000@davesterner.com
SUMMARY:Red Light Roxy - Westlake
DESCRIPTION:Summer concert at the Westlake Recreation Center pavilion.   Bring a lawn chair and dinner and enjoy some swinging tunes. \n28955 Hilliard Boulevard\nWestlake\, OH 44145
URL:https://davesterner.com/calendar/get-hep-swing-dance-red-light-roxy/
END:VEVENT
BEGIN:VEVENT
DTSTART;TZID=UTC:20210612T193000
DTEND;TZID=UTC:20210612T233000
DTSTAMP:20260425T005025
CREATED:20180806T195028Z
LAST-MODIFIED:20210603T121012Z
UID:613-1623526200-1623540600@davesterner.com
SUMMARY:Grand Avenue Band - Wedding
DESCRIPTION:Playing a private wedding with the Grand Avenue Band.
URL:https://davesterner.com/calendar/park-place-wedding/
END:VEVENT
BEGIN:VEVENT
DTSTART;TZID=UTC:20210513T190000
DTEND;TZID=UTC:20210513T200000
DTSTAMP:20260425T005025
CREATED:20210324T182356Z
LAST-MODIFIED:20210603T121601Z
UID:696-1620932400-1620936000@davesterner.com
SUMMARY:Shabbatt Rocks!!!
DESCRIPTION:Shabbat Rocks!! Worship service with a contemporary Jewish band
URL:https://davesterner.com/calendar/shabbatt-rocks-2/
LOCATION:B’nai Jeshurun\, 27501 Fairmount Boulevard\, Pepper Pike\, OH\, 44124\, United States
END:VEVENT
BEGIN:VEVENT
DTSTART;TZID=UTC:20210416T190000
DTEND;TZID=UTC:20210416T203000
DTSTAMP:20260425T005025
CREATED:20180503T155945Z
LAST-MODIFIED:20210317T161504Z
UID:555-1618599600-1618605000@davesterner.com
SUMMARY:Shabbat Rocks!!!
DESCRIPTION:B’nai Jeshurun\, 27501 Fairmount Boulevard\nPepper Pike\, OH 44124 United States\n\n\n\nShabbat Rocks!! Worship service with a contemporary Jewish band
URL:https://davesterner.com/calendar/shabbat-rocks-4/
END:VEVENT
BEGIN:VEVENT
DTSTART;TZID=UTC:20200819T190000
DTEND;TZID=UTC:20200819T210000
DTSTAMP:20260425T005025
CREATED:20190216T162315Z
LAST-MODIFIED:20200301T220655Z
UID:733-1597863600-1597870800@davesterner.com
SUMMARY:Red Light Roxy - Bedford
DESCRIPTION:Party in the Park in downtown Bedford.  We’ve enjoyed playing for the past couple of summers. \nBedford Gazebo \n730 Broadway Ave \nBedford\, OH 44146\, USA
URL:https://davesterner.com/calendar/red-light-roxy-bedford/
END:VEVENT
BEGIN:VEVENT
DTSTART;TZID=UTC:20200805T180000
DTEND;TZID=UTC:20200805T210000
DTSTAMP:20260425T005025
CREATED:20180324T205651Z
LAST-MODIFIED:20200301T223540Z
UID:521-1596650400-1596661200@davesterner.com
SUMMARY:Red Light Roxy - Swing Dancing at Playhouse Square
DESCRIPTION:Swing Dancing at Playhouse Square\nPlayhouse Square\, 1501 Euclid Ave #200\, Cleveland\, OH 44115\, USA \n\n\nWe will be back again for these really fun outdoor swing dances on the plaza by the giant chandelier at Playhouse Square.  This event is in supported through Get hep swing dancing.  The dance lesson starts at 6pm and the band starts at 6:30pm.
URL:https://davesterner.com/calendar/red-light-roxy-swing-dancing-playhouse-square/
END:VEVENT
BEGIN:VEVENT
DTSTART;TZID=UTC:20200710T190000
DTEND;TZID=UTC:20200710T210000
DTSTAMP:20260425T005025
CREATED:20190216T161447Z
LAST-MODIFIED:20200301T222225Z
UID:725-1594407600-1594414800@davesterner.com
SUMMARY:Red Light Roxy - Lakewood Front Porch Series
DESCRIPTION:Red Light Roxy is back for the summer concert series at the Lakewood Library. \nLakewood Public Library Main Library\, 15425 Detroit Ave\, Lakewood\, OH 44107\, USA
URL:https://davesterner.com/calendar/red-light-roxy-beachwood/
END:VEVENT
BEGIN:VEVENT
DTSTART;TZID=UTC:20200703T090000
DTEND;TZID=UTC:20200703T233000
DTSTAMP:20260425T005025
CREATED:20180614T173443Z
LAST-MODIFIED:20200301T221217Z
UID:591-1593766800-1593819000@davesterner.com
SUMMARY:Park Place - Catawba Island Club
DESCRIPTION:Playing for the July 4th parties at Catawba Island Club.
URL:https://davesterner.com/calendar/park-place-catawba-island-club/
END:VEVENT
BEGIN:VEVENT
DTSTART;TZID=UTC:20200702T180000
DTEND;TZID=UTC:20200702T200000
DTSTAMP:20260425T005025
CREATED:20190729T143520Z
LAST-MODIFIED:20210317T161250Z
UID:777-1593712800-1593720000@davesterner.com
SUMMARY:Red Light Roxy - Stinchcomb Overlook
DESCRIPTION:Looking forward to our first time in Rocky River.  We’ll be singing and swinging. \nStinchcomb-Groth Memorial Drive\, Stinchcomb-Groth Memorial Dr\, Cleveland\, OH 44111\, USA
URL:https://davesterner.com/calendar/red-light-roxy-maple-heights/
END:VEVENT
BEGIN:VEVENT
DTSTART;TZID=UTC:20200305T193000
DTEND;TZID=UTC:20200305T223000
DTSTAMP:20260425T005025
CREATED:20181122T005442Z
LAST-MODIFIED:20200112T213438Z
UID:646-1583436600-1583447400@davesterner.com
SUMMARY:Red Light Roxy - Classic Swing Dance Practica
DESCRIPTION:Thursday March 5\, 7:30 pm – 10:30 pm\nForest City Brewery\, 2135 Columbus Rd\, Cleveland\, OH 44113\, USA \nSwing Island is an opportunity to practice your swing dancing; Lindy Hop\, Jitterbug\, Balboa\, Charleston – we do it all. A practice environment where one can perfect newly acquired moves\, gain feedback from peers and have a good time. We encourage everyone to come with something in mind you would like to work on. \nThere is no cover and there are no formal lessons provided. We ask that you support the Forest City Brewery as they support us.\nForest City Brewery is just off West 25th Street in Ohio City (access is actually gained from Freeman Ave.)
URL:https://davesterner.com/calendar/swing-island-snow-ball-red-light-roxy/
END:VEVENT
BEGIN:VEVENT
DTSTART;TZID=UTC:20200208T193000
DTEND;TZID=UTC:20200208T233000
DTSTAMP:20260425T005025
CREATED:20180807T180521Z
LAST-MODIFIED:20200112T212546Z
UID:621-1581190200-1581204600@davesterner.com
SUMMARY:Park Place Entertainment - Wedding
DESCRIPTION:Playing a private wedding with Park Place Entertainment.
URL:https://davesterner.com/calendar/park-place-entertainment-wedding/
END:VEVENT
BEGIN:VEVENT
DTSTART;TZID=UTC:20191213T183000
DTEND;TZID=UTC:20191213T220000
DTSTAMP:20260425T005025
CREATED:20180807T180615Z
LAST-MODIFIED:20191018T191412Z
UID:623-1576261800-1576274400@davesterner.com
SUMMARY:Red Light Roxy - First Energy Stadium
DESCRIPTION:Playing a private Holiday party with Red Light Roxy.
URL:https://davesterner.com/calendar/red-light-roxy-wedding/
END:VEVENT
BEGIN:VEVENT
DTSTART;TZID=UTC:20190817T190000
DTEND;TZID=UTC:20190817T230000
DTSTAMP:20260425T005025
CREATED:20190515T142535Z
LAST-MODIFIED:20190729T143940Z
UID:755-1566068400-1566082800@davesterner.com
SUMMARY:K-Street - Wedding
DESCRIPTION:Playing a wedding with Kyle Primous and K- Street.  Private Event
URL:https://davesterner.com/calendar/k-street-wedding-2/
END:VEVENT
BEGIN:VEVENT
DTSTART;TZID=UTC:20190816T080000
DTEND;TZID=UTC:20190816T203000
DTSTAMP:20260425T005025
CREATED:20190729T143915Z
LAST-MODIFIED:20190729T143915Z
UID:779-1565942400-1565987400@davesterner.com
SUMMARY:Sammy DeLeon Latin Jazz Sextet- Nighttown
DESCRIPTION:This will be a fun night playing Latin jazz and Salsa.  I’ll be traveling to Costa Rica in December with this band.
URL:https://davesterner.com/calendar/sammy-deleon-latin-jazz-sextet-nighttown/
LOCATION:Nighttown\, 12387 Cedar Road\, Cleveland Heights\, OHIO\, 44106
END:VEVENT
END:VCALENDAR